BEGIN:VCALENDAR
VERSION:2.0
PRODID:-//MeadowRidge Bee Farm - ECPv6.15.20//NONSGML v1.0//EN
CALSCALE:GREGORIAN
METHOD:PUBLISH
X-WR-CALNAME:MeadowRidge Bee Farm
X-ORIGINAL-URL:https://meadowridgebeefarm.com
X-WR-CALDESC:Events for MeadowRidge Bee Farm
REFRESH-INTERVAL;VALUE=DURATION:PT1H
X-Robots-Tag:noindex
X-PUBLISHED-TTL:PT1H
BEGIN:VTIMEZONE
TZID:America/Chicago
BEGIN:DAYLIGHT
TZOFFSETFROM:-0600
TZOFFSETTO:-0500
TZNAME:CDT
DTSTART:20230312T080000
END:DAYLIGHT
BEGIN:STANDARD
TZOFFSETFROM:-0500
TZOFFSETTO:-0600
TZNAME:CST
DTSTART:20231105T070000
END:STANDARD
BEGIN:DAYLIGHT
TZOFFSETFROM:-0600
TZOFFSETTO:-0500
TZNAME:CDT
DTSTART:20240310T080000
END:DAYLIGHT
BEGIN:STANDARD
TZOFFSETFROM:-0500
TZOFFSETTO:-0600
TZNAME:CST
DTSTART:20241103T070000
END:STANDARD
BEGIN:DAYLIGHT
TZOFFSETFROM:-0600
TZOFFSETTO:-0500
TZNAME:CDT
DTSTART:20250309T080000
END:DAYLIGHT
BEGIN:STANDARD
TZOFFSETFROM:-0500
TZOFFSETTO:-0600
TZNAME:CST
DTSTART:20251102T070000
END:STANDARD
END:VTIMEZONE
BEGIN:VEVENT
DTSTART;TZID=America/Chicago:20240721T170000
DTEND;TZID=America/Chicago:20240721T200000
DTSTAMP:20260423T040438
CREATED:20240530T170623Z
LAST-MODIFIED:20240530T171116Z
UID:22961-1721581200-1721592000@meadowridgebeefarm.com
SUMMARY:Danvers Farmers & Craft Market
DESCRIPTION:Come join us for supper\, band concert\, and shopping! The Danvers Town Band and Ice Cream Social has it all! \nMarket: 5:00-8:00 \nIce Cream Social provided by First Presbyterian Church: 5:00-7:00 \nBand Concert: 7:00 – 8:30
URL:https://meadowridgebeefarm.com/event/danvers-farmers-craft-market-4/
LOCATION:Danvers Village Park\, 301 E Main Street\, Danvers\, IL\, 61732\, United States
CATEGORIES:Small Town Markets
ORGANIZER;CN="Lisa Merrick":MAILTO:lhuffy66@yahoo.com
END:VEVENT
END:VCALENDAR