BEGIN:VCALENDAR
VERSION:2.0
PRODID:-//MeadowRidge Bee Farm - ECPv6.15.20//NONSGML v1.0//EN
CALSCALE:GREGORIAN
METHOD:PUBLISH
X-ORIGINAL-URL:https://meadowridgebeefarm.com
X-WR-CALDESC:Events for MeadowRidge Bee Farm
REFRESH-INTERVAL;VALUE=DURATION:PT1H
X-Robots-Tag:noindex
X-PUBLISHED-TTL:PT1H
BEGIN:VTIMEZONE
TZID:America/Chicago
BEGIN:DAYLIGHT
TZOFFSETFROM:-0600
TZOFFSETTO:-0500
TZNAME:CDT
DTSTART:20240310T080000
END:DAYLIGHT
BEGIN:STANDARD
TZOFFSETFROM:-0500
TZOFFSETTO:-0600
TZNAME:CST
DTSTART:20241103T070000
END:STANDARD
BEGIN:DAYLIGHT
TZOFFSETFROM:-0600
TZOFFSETTO:-0500
TZNAME:CDT
DTSTART:20250309T080000
END:DAYLIGHT
BEGIN:STANDARD
TZOFFSETFROM:-0500
TZOFFSETTO:-0600
TZNAME:CST
DTSTART:20251102T070000
END:STANDARD
BEGIN:DAYLIGHT
TZOFFSETFROM:-0600
TZOFFSETTO:-0500
TZNAME:CDT
DTSTART:20260308T080000
END:DAYLIGHT
BEGIN:STANDARD
TZOFFSETFROM:-0500
TZOFFSETTO:-0600
TZNAME:CST
DTSTART:20261101T070000
END:STANDARD
END:VTIMEZONE
BEGIN:VEVENT
DTSTART;TZID=America/Chicago:20250805T170000
DTEND;TZID=America/Chicago:20250805T190000
DTSTAMP:20260422T053104
CREATED:20250703T234707Z
LAST-MODIFIED:20250703T234707Z
UID:40584-1754413200-1754420400@meadowridgebeefarm.com
SUMMARY:Carlock Community Market
DESCRIPTION:Come See Us in Person!We love connecting with our community\, and there’s no better way than meeting face-to-face at local events. This summer\, you can find us at the Carlock Community Market on the 1st and 3rd Tuesdays of June\, July\, and August. We’ll have our delicious Honey and HoneyStix on hand\, along with soaps and skincare products—weather permitting (heat and body butter don’t always mix!). Stop by to sample\, shop\, and say hello!
URL:https://meadowridgebeefarm.com/event/carlock-community-market-16/
LOCATION:Rock Creek Veterans’ Park\, Jefferson Street\, Carlock\, IL\, 61725\, United States
CATEGORIES:Small Town Markets
END:VEVENT
BEGIN:VEVENT
DTSTART;TZID=America/Chicago:20250819T170000
DTEND;TZID=America/Chicago:20250819T190000
DTSTAMP:20260422T053104
CREATED:20250703T234828Z
LAST-MODIFIED:20250703T234828Z
UID:40579-1755622800-1755630000@meadowridgebeefarm.com
SUMMARY:Carlock Community Market
DESCRIPTION:Come See Us in Person!We love connecting with our community\, and there’s no better way than meeting face-to-face at local events. This summer\, you can find us at the Carlock Community Market on the 1st and 3rd Tuesdays of June\, July\, and August. We’ll have our delicious Honey and HoneyStix on hand\, along with soaps and skincare products—weather permitting (heat and body butter don’t always mix!). Stop by to sample\, shop\, and say hello!
URL:https://meadowridgebeefarm.com/event/carlock-community-market-17/
LOCATION:Rock Creek Veterans’ Park\, Jefferson Street\, Carlock\, IL\, 61725\, United States
CATEGORIES:Small Town Markets
END:VEVENT
END:VCALENDAR