BEGIN:VCALENDAR
VERSION:2.0
PRODID:-//MeadowRidge Bee Farm - ECPv6.15.20//NONSGML v1.0//EN
CALSCALE:GREGORIAN
METHOD:PUBLISH
X-WR-CALNAME:MeadowRidge Bee Farm
X-ORIGINAL-URL:https://meadowridgebeefarm.com
X-WR-CALDESC:Events for MeadowRidge Bee Farm
REFRESH-INTERVAL;VALUE=DURATION:PT1H
X-Robots-Tag:noindex
X-PUBLISHED-TTL:PT1H
BEGIN:VTIMEZONE
TZID:America/Chicago
BEGIN:DAYLIGHT
TZOFFSETFROM:-0600
TZOFFSETTO:-0500
TZNAME:CDT
DTSTART:20230312T080000
END:DAYLIGHT
BEGIN:STANDARD
TZOFFSETFROM:-0500
TZOFFSETTO:-0600
TZNAME:CST
DTSTART:20231105T070000
END:STANDARD
BEGIN:DAYLIGHT
TZOFFSETFROM:-0600
TZOFFSETTO:-0500
TZNAME:CDT
DTSTART:20240310T080000
END:DAYLIGHT
BEGIN:STANDARD
TZOFFSETFROM:-0500
TZOFFSETTO:-0600
TZNAME:CST
DTSTART:20241103T070000
END:STANDARD
BEGIN:DAYLIGHT
TZOFFSETFROM:-0600
TZOFFSETTO:-0500
TZNAME:CDT
DTSTART:20250309T080000
END:DAYLIGHT
BEGIN:STANDARD
TZOFFSETFROM:-0500
TZOFFSETTO:-0600
TZNAME:CST
DTSTART:20251102T070000
END:STANDARD
END:VTIMEZONE
BEGIN:VEVENT
DTSTART;TZID=America/Chicago:20240712T130000
DTEND;TZID=America/Chicago:20240712T190000
DTSTAMP:20260423T051657
CREATED:20240530T171758Z
LAST-MODIFIED:20240530T171758Z
UID:22965-1720789200-1720810800@meadowridgebeefarm.com
SUMMARY:Glorious Garden Festival
DESCRIPTION:
URL:https://meadowridgebeefarm.com/event/glorious-garden-festival/
LOCATION:David Davis Mansion\, 1000 Monroe Drive\, Bloomington\, IL\, 61701\, United States
CATEGORIES:Vendor Markets
END:VEVENT
BEGIN:VEVENT
DTSTART;TZID=America/Chicago:20240713T090000
DTEND;TZID=America/Chicago:20240713T150000
DTSTAMP:20260423T051657
CREATED:20240530T172130Z
LAST-MODIFIED:20240823T142844Z
UID:22970-1720861200-1720882800@meadowridgebeefarm.com
SUMMARY:Glorious Garden Festival
DESCRIPTION:
URL:https://meadowridgebeefarm.com/event/glorious-garden-festival-2/
LOCATION:David Davis Mansion\, 1000 Monroe Drive\, Bloomington\, IL\, 61701\, United States
CATEGORIES:Vendor Markets
ORGANIZER;CN="Adrienne Huffman":MAILTO:adrienne.r.huffman@gmail.com
END:VEVENT
END:VCALENDAR