BEGIN:VCALENDAR
VERSION:2.0
PRODID:-//MeadowRidge Bee Farm - ECPv6.15.20//NONSGML v1.0//EN
CALSCALE:GREGORIAN
METHOD:PUBLISH
X-WR-CALNAME:MeadowRidge Bee Farm
X-ORIGINAL-URL:https://meadowridgebeefarm.com
X-WR-CALDESC:Events for MeadowRidge Bee Farm
REFRESH-INTERVAL;VALUE=DURATION:PT1H
X-Robots-Tag:noindex
X-PUBLISHED-TTL:PT1H
BEGIN:VTIMEZONE
TZID:America/Chicago
BEGIN:DAYLIGHT
TZOFFSETFROM:-0600
TZOFFSETTO:-0500
TZNAME:CDT
DTSTART:20250309T080000
END:DAYLIGHT
BEGIN:STANDARD
TZOFFSETFROM:-0500
TZOFFSETTO:-0600
TZNAME:CST
DTSTART:20251102T070000
END:STANDARD
BEGIN:DAYLIGHT
TZOFFSETFROM:-0600
TZOFFSETTO:-0500
TZNAME:CDT
DTSTART:20260308T080000
END:DAYLIGHT
BEGIN:STANDARD
TZOFFSETFROM:-0500
TZOFFSETTO:-0600
TZNAME:CST
DTSTART:20261101T070000
END:STANDARD
BEGIN:DAYLIGHT
TZOFFSETFROM:-0600
TZOFFSETTO:-0500
TZNAME:CDT
DTSTART:20270314T080000
END:DAYLIGHT
BEGIN:STANDARD
TZOFFSETFROM:-0500
TZOFFSETTO:-0600
TZNAME:CST
DTSTART:20271107T070000
END:STANDARD
END:VTIMEZONE
BEGIN:VEVENT
DTSTART;TZID=America/Chicago:20260509T100000
DTEND;TZID=America/Chicago:20260509T150000
DTSTAMP:20260421T080114
CREATED:20260421T002127Z
LAST-MODIFIED:20260421T002650Z
UID:40682-1778320800-1778338800@meadowridgebeefarm.com
SUMMARY:Mothers Day Vender Show
DESCRIPTION:
URL:https://meadowridgebeefarm.com/event/mothers-day-venders-show/
LOCATION:The Old Rugged Barn\, 18808 N 2000 East Rd\, Towanda\, IL\, 61776\, United States
END:VEVENT
END:VCALENDAR