BEGIN:VCALENDAR
VERSION:2.0
PRODID:-//MeadowRidge Bee Farm - ECPv6.15.20//NONSGML v1.0//EN
CALSCALE:GREGORIAN
METHOD:PUBLISH
X-WR-CALNAME:MeadowRidge Bee Farm
X-ORIGINAL-URL:https://meadowridgebeefarm.com
X-WR-CALDESC:Events for MeadowRidge Bee Farm
REFRESH-INTERVAL;VALUE=DURATION:PT1H
X-Robots-Tag:noindex
X-PUBLISHED-TTL:PT1H
BEGIN:VTIMEZONE
TZID:America/Chicago
BEGIN:DAYLIGHT
TZOFFSETFROM:-0600
TZOFFSETTO:-0500
TZNAME:CDT
DTSTART:20210314T080000
END:DAYLIGHT
BEGIN:STANDARD
TZOFFSETFROM:-0500
TZOFFSETTO:-0600
TZNAME:CST
DTSTART:20211107T070000
END:STANDARD
BEGIN:DAYLIGHT
TZOFFSETFROM:-0600
TZOFFSETTO:-0500
TZNAME:CDT
DTSTART:20220313T080000
END:DAYLIGHT
BEGIN:STANDARD
TZOFFSETFROM:-0500
TZOFFSETTO:-0600
TZNAME:CST
DTSTART:20221106T070000
END:STANDARD
BEGIN:DAYLIGHT
TZOFFSETFROM:-0600
TZOFFSETTO:-0500
TZNAME:CDT
DTSTART:20230312T080000
END:DAYLIGHT
BEGIN:STANDARD
TZOFFSETFROM:-0500
TZOFFSETTO:-0600
TZNAME:CST
DTSTART:20231105T070000
END:STANDARD
BEGIN:DAYLIGHT
TZOFFSETFROM:-0600
TZOFFSETTO:-0500
TZNAME:CDT
DTSTART:20240310T080000
END:DAYLIGHT
BEGIN:STANDARD
TZOFFSETFROM:-0500
TZOFFSETTO:-0600
TZNAME:CST
DTSTART:20241103T070000
END:STANDARD
BEGIN:DAYLIGHT
TZOFFSETFROM:-0600
TZOFFSETTO:-0500
TZNAME:CDT
DTSTART:20250309T080000
END:DAYLIGHT
BEGIN:STANDARD
TZOFFSETFROM:-0500
TZOFFSETTO:-0600
TZNAME:CST
DTSTART:20251102T070000
END:STANDARD
END:VTIMEZONE
BEGIN:VEVENT
DTSTART;TZID=America/Chicago:20240702T170000
DTEND;TZID=America/Chicago:20240702T190000
DTSTAMP:20260422T164942
CREATED:20240530T165007Z
LAST-MODIFIED:20240530T171116Z
UID:22941-1719939600-1719946800@meadowridgebeefarm.com
SUMMARY:Carlock Community Market
DESCRIPTION:
URL:https://meadowridgebeefarm.com/event/carlock-community-market-7/
LOCATION:Rock Creek Veterans’ Park\, Jefferson Street\, Carlock\, IL\, 61725\, United States
CATEGORIES:Small Town Markets
END:VEVENT
BEGIN:VEVENT
DTSTART;TZID=America/Chicago:20240630T170000
DTEND;TZID=America/Chicago:20240630T200000
DTSTAMP:20260422T164942
CREATED:20240530T170108Z
LAST-MODIFIED:20240530T171116Z
UID:22952-1719766800-1719777600@meadowridgebeefarm.com
SUMMARY:Danvers Farmers & Craft Market
DESCRIPTION:Come join us for supper\, band concert\, and shopping! The Danvers Town Band and Ice Cream Social has it all! \nMarket: 5:00-8:00 \nIce Cream Social provided by Danvers Lions Club: 5:00-7:00 \nBand Concert: 7:00 – 8:30
URL:https://meadowridgebeefarm.com/event/danvers-farmers-craft-market/
LOCATION:Danvers Village Park\, 301 E Main Street\, Danvers\, IL\, 61732\, United States
CATEGORIES:Small Town Markets
ORGANIZER;CN="Lisa Merrick":MAILTO:lhuffy66@yahoo.com
END:VEVENT
BEGIN:VEVENT
DTSTART;TZID=America/Chicago:20240618T170000
DTEND;TZID=America/Chicago:20240618T190000
DTSTAMP:20260422T164942
CREATED:20240530T164915Z
LAST-MODIFIED:20240530T171116Z
UID:22938-1718730000-1718737200@meadowridgebeefarm.com
SUMMARY:Carlock Community Market
DESCRIPTION:
URL:https://meadowridgebeefarm.com/event/carlock-community-market-6/
LOCATION:Rock Creek Veterans’ Park\, Jefferson Street\, Carlock\, IL\, 61725\, United States
CATEGORIES:Small Town Markets
END:VEVENT
BEGIN:VEVENT
DTSTART;TZID=America/Chicago:20240604T170000
DTEND;TZID=America/Chicago:20240604T190000
DTSTAMP:20260422T164942
CREATED:20240530T165304Z
LAST-MODIFIED:20240530T171116Z
UID:22950-1717520400-1717527600@meadowridgebeefarm.com
SUMMARY:Carlock Community Market
DESCRIPTION:
URL:https://meadowridgebeefarm.com/event/carlock-community-market-11/
LOCATION:Rock Creek Veterans’ Park\, Jefferson Street\, Carlock\, IL\, 61725\, United States
CATEGORIES:Small Town Markets
END:VEVENT
BEGIN:VEVENT
DTSTART;TZID=America/Chicago:20240505T100000
DTEND;TZID=America/Chicago:20240505T143000
DTSTAMP:20260422T164942
CREATED:20240530T164551Z
LAST-MODIFIED:20240530T171204Z
UID:22934-1714903200-1714919400@meadowridgebeefarm.com
SUMMARY:Spring Makers Market
DESCRIPTION:
URL:https://meadowridgebeefarm.com/event/spring-makers-market/
LOCATION:Destihl Brewery\, 1200 Greenbriar Drive\, Normal\, IL\, 61761\, United States
CATEGORIES:Vendor Markets
ORGANIZER;CN="Amanda Stephens":MAILTO:aelston@destihl.com
END:VEVENT
BEGIN:VEVENT
DTSTART;TZID=America/Chicago:20240210T090000
DTEND;TZID=America/Chicago:20240210T140000
DTSTAMP:20260422T164942
CREATED:20240530T164502Z
LAST-MODIFIED:20240530T171204Z
UID:22932-1707555600-1707573600@meadowridgebeefarm.com
SUMMARY:Love on Main
DESCRIPTION:
URL:https://meadowridgebeefarm.com/event/love-on-main/
LOCATION:Lexington Community Center\, 207 W Main Street\, Lexington\, IL\, 61753\, United States
CATEGORIES:Vendor Markets
END:VEVENT
BEGIN:VEVENT
DTSTART;TZID=America/Chicago:20231207T160000
DTEND;TZID=America/Chicago:20231207T200000
DTSTAMP:20260422T164942
CREATED:20231004T175950Z
LAST-MODIFIED:20231102T000640Z
UID:8305-1701964800-1701979200@meadowridgebeefarm.com
SUMMARY:Washington Sip & Shop
DESCRIPTION:
URL:https://meadowridgebeefarm.com/event/washington-sip-shop-2/
LOCATION:Countryside Banquet Facility\, 659 School St\, Washington\, IL\, 61571\, United States
CATEGORIES:Vendor Markets
ATTACH;FMTTYPE=image/jpeg:https://meadowridgebeefarm.com/wp-content/uploads/2023/10/2023-12-07-Washington-Sip-Shop.jpg
END:VEVENT
BEGIN:VEVENT
DTSTART;TZID=America/Chicago:20231202T090000
DTEND;TZID=America/Chicago:20231202T170000
DTSTAMP:20260422T164942
CREATED:20231004T175907Z
LAST-MODIFIED:20231102T000654Z
UID:8302-1701507600-1701536400@meadowridgebeefarm.com
SUMMARY:Christmas on the Prairie
DESCRIPTION:
URL:https://meadowridgebeefarm.com/event/christmas-on-the-prairie/
LOCATION:Lexington Community Center\, 207 W Main Street\, Lexington\, IL\, 61753\, United States
CATEGORIES:Vendor Markets
END:VEVENT
BEGIN:VEVENT
DTSTART;TZID=America/Chicago:20231119T100000
DTEND;TZID=America/Chicago:20231119T143000
DTSTAMP:20260422T164942
CREATED:20231004T175650Z
LAST-MODIFIED:20231101T190053Z
UID:8300-1700388000-1700404200@meadowridgebeefarm.com
SUMMARY:Dosvidanya Makers Market
DESCRIPTION:
URL:https://meadowridgebeefarm.com/event/dosvidanya-makers-market/
LOCATION:Destihl Brewery\, 1200 Greenbriar Drive\, Normal\, IL\, 61761\, United States
CATEGORIES:Vendor Markets
ATTACH;FMTTYPE=image/jpeg:https://meadowridgebeefarm.com/wp-content/uploads/2023/10/2023-11-19-Dosvidanya-Makers-Market.jpg
ORGANIZER;CN="Amanda Stephens":MAILTO:aelston@destihl.com
END:VEVENT
BEGIN:VEVENT
DTSTART;TZID=America/Chicago:20231008T100000
DTEND;TZID=America/Chicago:20231008T143000
DTSTAMP:20260422T164942
CREATED:20231004T175614Z
LAST-MODIFIED:20231102T000702Z
UID:8298-1696759200-1696775400@meadowridgebeefarm.com
SUMMARY:Hops & Hounds Makers Market
DESCRIPTION:
URL:https://meadowridgebeefarm.com/event/hops-hounds-makers-market/
LOCATION:Destihl Brewery\, 1200 Greenbriar Drive\, Normal\, IL\, 61761\, United States
CATEGORIES:Vendor Markets
ORGANIZER;CN="Amanda Stephens":MAILTO:aelston@destihl.com
END:VEVENT
BEGIN:VEVENT
DTSTART;TZID=America/Chicago:20230916T100000
DTEND;TZID=America/Chicago:20230916T150000
DTSTAMP:20260422T164942
CREATED:20230903T013628Z
LAST-MODIFIED:20231102T000710Z
UID:7534-1694858400-1694876400@meadowridgebeefarm.com
SUMMARY:Merchants on Main
DESCRIPTION:
URL:https://meadowridgebeefarm.com/event/merchants-on-main/
LOCATION:IL
CATEGORIES:Vendor Markets
END:VEVENT
BEGIN:VEVENT
DTSTART;TZID=America/Chicago:20230910T100000
DTEND;TZID=America/Chicago:20230910T143000
DTSTAMP:20260422T164942
CREATED:20230902T235755Z
LAST-MODIFIED:20231102T000717Z
UID:7530-1694340000-1694356200@meadowridgebeefarm.com
SUMMARY:Oktoberfest Makers Market
DESCRIPTION:
URL:https://meadowridgebeefarm.com/event/oktoberfest-makers-market/
LOCATION:Destihl Brewery\, 1200 Greenbriar Drive\, Normal\, IL\, 61761\, United States
CATEGORIES:Vendor Markets
ORGANIZER;CN="Amanda Stephens":MAILTO:aelston@destihl.com
END:VEVENT
BEGIN:VEVENT
DTSTART;TZID=America/Chicago:20230826T090000
DTEND;TZID=America/Chicago:20230826T153000
DTSTAMP:20260422T164942
CREATED:20230823T141853Z
LAST-MODIFIED:20230824T165545Z
UID:7252-1693040400-1693063800@meadowridgebeefarm.com
SUMMARY:the Farmstead Fair
DESCRIPTION:Come join us plus 100+ venders out in the country at Rader Family Farms for the 7th annual the Farmstead Fair! Kids activities will not be open until September 9\, but sunflowers are still blooming and the coffee house and grill will be serving their delicacies. Wristbands are $6 for the day.
URL:https://meadowridgebeefarm.com/event/the-farmstead-fair/
LOCATION:Rader Family Farms\, 1312 Ropp Rd\, Normal\, 61761\, United States
CATEGORIES:Vendor Markets
ORGANIZER;CN="Shannon Rader":MAILTO:farmsteadfair@gmail.com
END:VEVENT
BEGIN:VEVENT
DTSTART;TZID=America/Chicago:20230815T170000
DTEND;TZID=America/Chicago:20230815T190000
DTSTAMP:20260422T164942
CREATED:20230623T145551Z
LAST-MODIFIED:20230623T153409Z
UID:5746-1692118800-1692126000@meadowridgebeefarm.com
SUMMARY:Carlock Community Market
DESCRIPTION:
URL:https://meadowridgebeefarm.com/event/carlock-community-market-5/
LOCATION:Rock Creek Veterans’ Park\, Jefferson Street\, Carlock\, IL\, 61725\, United States
CATEGORIES:Small Town Markets
END:VEVENT
BEGIN:VEVENT
DTSTART;TZID=America/Chicago:20230801T170000
DTEND;TZID=America/Chicago:20230801T190000
DTSTAMP:20260422T164942
CREATED:20230623T145517Z
LAST-MODIFIED:20230623T153418Z
UID:5744-1690909200-1690916400@meadowridgebeefarm.com
SUMMARY:Carlock Community Market
DESCRIPTION:
URL:https://meadowridgebeefarm.com/event/carlock-community-market-4/
LOCATION:Rock Creek Veterans’ Park\, Jefferson Street\, Carlock\, IL\, 61725\, United States
CATEGORIES:Small Town Markets
END:VEVENT
BEGIN:VEVENT
DTSTART;TZID=America/Chicago:20230730T170000
DTEND;TZID=America/Chicago:20230730T193000
DTSTAMP:20260422T164942
CREATED:20230623T150828Z
LAST-MODIFIED:20230623T153430Z
UID:5762-1690736400-1690745400@meadowridgebeefarm.com
SUMMARY:Danvers Farmer's and Craft Market
DESCRIPTION:
URL:https://meadowridgebeefarm.com/event/danvers-farmers-and-craft-market-3/
LOCATION:Danvers Village Park\, 301 E Main Street\, Danvers\, IL\, 61732\, United States
CATEGORIES:Small Town Markets
ORGANIZER;CN="Lisa Merrick":MAILTO:lhuffy66@yahoo.com
END:VEVENT
BEGIN:VEVENT
DTSTART;TZID=America/Chicago:20230723T100000
DTEND;TZID=America/Chicago:20230723T143000
DTSTAMP:20260422T164942
CREATED:20230407T230210Z
LAST-MODIFIED:20230623T153436Z
UID:4944-1690106400-1690122600@meadowridgebeefarm.com
SUMMARY:Summer Maker's Market
DESCRIPTION:
URL:https://meadowridgebeefarm.com/event/summer-makers-market/
LOCATION:Destihl Brewery\, 1200 Greenbriar Drive\, Normal\, IL\, 61761\, United States
CATEGORIES:Vendor Markets
ORGANIZER;CN="Amanda Stephens":MAILTO:aelston@destihl.com
END:VEVENT
BEGIN:VEVENT
DTSTART;TZID=America/Chicago:20230718T170000
DTEND;TZID=America/Chicago:20230718T190000
DTSTAMP:20260422T164942
CREATED:20230623T145436Z
LAST-MODIFIED:20230623T153442Z
UID:5742-1689699600-1689706800@meadowridgebeefarm.com
SUMMARY:Carlock Community Market
DESCRIPTION:
URL:https://meadowridgebeefarm.com/event/carlock-community-market-3/
LOCATION:Rock Creek Veterans’ Park\, Jefferson Street\, Carlock\, IL\, 61725\, United States
CATEGORIES:Small Town Markets
END:VEVENT
BEGIN:VEVENT
DTSTART;TZID=America/Chicago:20230716T170000
DTEND;TZID=America/Chicago:20230716T193000
DTSTAMP:20260422T164942
CREATED:20230623T150746Z
LAST-MODIFIED:20230623T153449Z
UID:5760-1689526800-1689535800@meadowridgebeefarm.com
SUMMARY:Danvers Farmer's and Craft Market
DESCRIPTION:
URL:https://meadowridgebeefarm.com/event/danvers-farmers-and-craft-market-2/
LOCATION:Danvers Village Park\, 301 E Main Street\, Danvers\, IL\, 61732\, United States
CATEGORIES:Small Town Markets
ORGANIZER;CN="Lisa Merrick":MAILTO:lhuffy66@yahoo.com
END:VEVENT
BEGIN:VEVENT
DTSTART;TZID=America/Chicago:20230704T090000
DTEND;TZID=America/Chicago:20230704T170000
DTSTAMP:20260422T164942
CREATED:20230623T150244Z
LAST-MODIFIED:20230623T153456Z
UID:5748-1688461200-1688490000@meadowridgebeefarm.com
SUMMARY:Towanda 4th of July Flea Market
DESCRIPTION:
URL:https://meadowridgebeefarm.com/event/towanda-4th-of-july-flea-market/
LOCATION:Towanda North Park\, 110 Main Street\, Towanda\, IL\, 61776\, United States
CATEGORIES:Vendor Markets
ORGANIZER;CN="Linda Potts":MAILTO:pottse@frontiernet.net
END:VEVENT
BEGIN:VEVENT
DTSTART;TZID=America/Chicago:20230702T170000
DTEND;TZID=America/Chicago:20230702T193000
DTSTAMP:20260422T164942
CREATED:20230623T150657Z
LAST-MODIFIED:20230623T153504Z
UID:5754-1688317200-1688326200@meadowridgebeefarm.com
SUMMARY:Danvers Farmer's and Craft Market
DESCRIPTION:
URL:https://meadowridgebeefarm.com/event/danvers-farmers-and-craft-market/
LOCATION:Danvers Village Park\, 301 E Main Street\, Danvers\, IL\, 61732\, United States
CATEGORIES:Small Town Markets
ORGANIZER;CN="Lisa Merrick":MAILTO:lhuffy66@yahoo.com
END:VEVENT
BEGIN:VEVENT
DTSTART;TZID=America/Chicago:20230620T170000
DTEND;TZID=America/Chicago:20230620T190000
DTSTAMP:20260422T164942
CREATED:20230623T145352Z
LAST-MODIFIED:20230623T153513Z
UID:5740-1687280400-1687287600@meadowridgebeefarm.com
SUMMARY:Carlock Community Market
DESCRIPTION:
URL:https://meadowridgebeefarm.com/event/carlock-community-market-2/
LOCATION:Rock Creek Veterans’ Park\, Jefferson Street\, Carlock\, IL\, 61725\, United States
CATEGORIES:Small Town Markets
END:VEVENT
BEGIN:VEVENT
DTSTART;TZID=America/Chicago:20230618T100000
DTEND;TZID=America/Chicago:20230618T143000
DTSTAMP:20260422T164942
CREATED:20230407T230108Z
LAST-MODIFIED:20230623T153520Z
UID:4942-1687082400-1687098600@meadowridgebeefarm.com
SUMMARY:Lawnmower Days Makers Market
DESCRIPTION:
URL:https://meadowridgebeefarm.com/event/lawnmower-days-makers-market/
LOCATION:Destihl Brewery\, 1200 Greenbriar Drive\, Normal\, IL\, 61761\, United States
CATEGORIES:Vendor Markets
END:VEVENT
BEGIN:VEVENT
DTSTART;TZID=America/Chicago:20230606T170000
DTEND;TZID=America/Chicago:20230606T190000
DTSTAMP:20260422T164942
CREATED:20230623T145248Z
LAST-MODIFIED:20230623T153527Z
UID:5738-1686070800-1686078000@meadowridgebeefarm.com
SUMMARY:Carlock Community Market
DESCRIPTION:
URL:https://meadowridgebeefarm.com/event/carlock-community-markets/
LOCATION:Rock Creek Veterans’ Park\, Jefferson Street\, Carlock\, IL\, 61725\, United States
CATEGORIES:Small Town Markets
END:VEVENT
BEGIN:VEVENT
DTSTART;TZID=America/Chicago:20230507T100000
DTEND;TZID=America/Chicago:20230507T170000
DTSTAMP:20260422T164942
CREATED:20230407T225948Z
LAST-MODIFIED:20230623T153539Z
UID:4940-1683453600-1683478800@meadowridgebeefarm.com
SUMMARY:All About the Mama's Market
DESCRIPTION:
URL:https://meadowridgebeefarm.com/event/all-about-the-mamas/
LOCATION:The Red Barn\, 32597 Hay Road\, Mackinaw\, IL\, 61755\, United States
CATEGORIES:Vendor Markets
ORGANIZER;CN="Lee Schmidgall":MAILTO:l.schmidgall@icloud.com
END:VEVENT
BEGIN:VEVENT
DTSTART;TZID=America/Chicago:20230506T100000
DTEND;TZID=America/Chicago:20230506T180000
DTSTAMP:20260422T164942
CREATED:20230407T225735Z
LAST-MODIFIED:20230623T153546Z
UID:4934-1683367200-1683396000@meadowridgebeefarm.com
SUMMARY:All About the Mama's Market
DESCRIPTION:
URL:https://meadowridgebeefarm.com/event/all-about-the-mamas-market/
LOCATION:The Red Barn\, 32597 Hay Road\, Mackinaw\, IL\, 61755\, United States
CATEGORIES:Vendor Markets
ORGANIZER;CN="Lee Schmidgall":MAILTO:l.schmidgall@icloud.com
END:VEVENT
BEGIN:VEVENT
DTSTART;TZID=America/Chicago:20221208T160000
DTEND;TZID=America/Chicago:20221208T200000
DTSTAMP:20260422T164942
CREATED:20221130T204725Z
LAST-MODIFIED:20221130T205130Z
UID:4507-1670515200-1670529600@meadowridgebeefarm.com
SUMMARY:Washington Sip & Shop
DESCRIPTION:
URL:https://meadowridgebeefarm.com/event/washington-sip-shop/
LOCATION:Countryside Banquet Facility\, 659 School St\, Washington\, IL\, 61571\, United States
CATEGORIES:Vendor Markets
END:VEVENT
BEGIN:VEVENT
DTSTART;TZID=America/Chicago:20221203T100000
DTEND;TZID=America/Chicago:20221203T140000
DTSTAMP:20260422T164942
CREATED:20221130T204107Z
LAST-MODIFIED:20221130T205137Z
UID:4502-1670061600-1670076000@meadowridgebeefarm.com
SUMMARY:El Paso Christmas Walk
DESCRIPTION:2022-12-03 El Paso Christmas Walk
URL:https://meadowridgebeefarm.com/event/el-paso-christmas-walk/
LOCATION:Jefferson Park Elementary School\, 250 W 3rd St\, El Paso\, IL\, 61738
CATEGORIES:Vendor Markets
END:VEVENT
BEGIN:VEVENT
DTSTART;TZID=America/Chicago:20221120T100000
DTEND;TZID=America/Chicago:20221120T143000
DTSTAMP:20260422T164942
CREATED:20220902T032215Z
LAST-MODIFIED:20221130T203844Z
UID:4369-1668938400-1668954600@meadowridgebeefarm.com
SUMMARY:Destihl Dosvidanya Maker's Market
DESCRIPTION:
URL:https://meadowridgebeefarm.com/event/destihl-dosvidanya-makers-market/
LOCATION:Destihl Brewery\, 1200 Greenbriar Drive\, Normal\, IL\, 61761\, United States
CATEGORIES:Vendor Markets
ORGANIZER;CN="Amanda Stephens":MAILTO:aelston@destihl.com
END:VEVENT
BEGIN:VEVENT
DTSTART;TZID=America/Chicago:20221016T100000
DTEND;TZID=America/Chicago:20221016T143000
DTSTAMP:20260422T164942
CREATED:20220902T032112Z
LAST-MODIFIED:20221130T203852Z
UID:4366-1665914400-1665930600@meadowridgebeefarm.com
SUMMARY:Destihl Fall Maker's Market
DESCRIPTION:
URL:https://meadowridgebeefarm.com/event/destihl-fall-makers-market/
LOCATION:Destihl Brewery\, 1200 Greenbriar Drive\, Normal\, IL\, 61761\, United States
CATEGORIES:Vendor Markets
ORGANIZER;CN="Amanda Stephens":MAILTO:aelston@destihl.com
END:VEVENT
END:VCALENDAR