BEGIN:VCALENDAR
VERSION:2.0
PRODID:-//MeadowRidge Bee Farm - ECPv6.15.20//NONSGML v1.0//EN
CALSCALE:GREGORIAN
METHOD:PUBLISH
X-WR-CALNAME:MeadowRidge Bee Farm
X-ORIGINAL-URL:https://meadowridgebeefarm.com
X-WR-CALDESC:Events for MeadowRidge Bee Farm
REFRESH-INTERVAL;VALUE=DURATION:PT1H
X-Robots-Tag:noindex
X-PUBLISHED-TTL:PT1H
BEGIN:VTIMEZONE
TZID:America/Chicago
BEGIN:DAYLIGHT
TZOFFSETFROM:-0600
TZOFFSETTO:-0500
TZNAME:CDT
DTSTART:20200308T080000
END:DAYLIGHT
BEGIN:STANDARD
TZOFFSETFROM:-0500
TZOFFSETTO:-0600
TZNAME:CST
DTSTART:20201101T070000
END:STANDARD
BEGIN:DAYLIGHT
TZOFFSETFROM:-0600
TZOFFSETTO:-0500
TZNAME:CDT
DTSTART:20210314T080000
END:DAYLIGHT
BEGIN:STANDARD
TZOFFSETFROM:-0500
TZOFFSETTO:-0600
TZNAME:CST
DTSTART:20211107T070000
END:STANDARD
BEGIN:DAYLIGHT
TZOFFSETFROM:-0600
TZOFFSETTO:-0500
TZNAME:CDT
DTSTART:20220313T080000
END:DAYLIGHT
BEGIN:STANDARD
TZOFFSETFROM:-0500
TZOFFSETTO:-0600
TZNAME:CST
DTSTART:20221106T070000
END:STANDARD
BEGIN:DAYLIGHT
TZOFFSETFROM:-0600
TZOFFSETTO:-0500
TZNAME:CDT
DTSTART:20230312T080000
END:DAYLIGHT
BEGIN:STANDARD
TZOFFSETFROM:-0500
TZOFFSETTO:-0600
TZNAME:CST
DTSTART:20231105T070000
END:STANDARD
BEGIN:DAYLIGHT
TZOFFSETFROM:-0600
TZOFFSETTO:-0500
TZNAME:CDT
DTSTART:20240310T080000
END:DAYLIGHT
BEGIN:STANDARD
TZOFFSETFROM:-0500
TZOFFSETTO:-0600
TZNAME:CST
DTSTART:20241103T070000
END:STANDARD
END:VTIMEZONE
BEGIN:VEVENT
DTSTART;TZID=America/Chicago:20230704T090000
DTEND;TZID=America/Chicago:20230704T170000
DTSTAMP:20260422T164942
CREATED:20230623T150244Z
LAST-MODIFIED:20230623T153456Z
UID:5748-1688461200-1688490000@meadowridgebeefarm.com
SUMMARY:Towanda 4th of July Flea Market
DESCRIPTION:
URL:https://meadowridgebeefarm.com/event/towanda-4th-of-july-flea-market/
LOCATION:Towanda North Park\, 110 Main Street\, Towanda\, IL\, 61776\, United States
CATEGORIES:Vendor Markets
ORGANIZER;CN="Linda Potts":MAILTO:pottse@frontiernet.net
END:VEVENT
BEGIN:VEVENT
DTSTART;TZID=America/Chicago:20230702T170000
DTEND;TZID=America/Chicago:20230702T193000
DTSTAMP:20260422T164942
CREATED:20230623T150657Z
LAST-MODIFIED:20230623T153504Z
UID:5754-1688317200-1688326200@meadowridgebeefarm.com
SUMMARY:Danvers Farmer's and Craft Market
DESCRIPTION:
URL:https://meadowridgebeefarm.com/event/danvers-farmers-and-craft-market/
LOCATION:Danvers Village Park\, 301 E Main Street\, Danvers\, IL\, 61732\, United States
CATEGORIES:Small Town Markets
ORGANIZER;CN="Lisa Merrick":MAILTO:lhuffy66@yahoo.com
END:VEVENT
BEGIN:VEVENT
DTSTART;TZID=America/Chicago:20230620T170000
DTEND;TZID=America/Chicago:20230620T190000
DTSTAMP:20260422T164942
CREATED:20230623T145352Z
LAST-MODIFIED:20230623T153513Z
UID:5740-1687280400-1687287600@meadowridgebeefarm.com
SUMMARY:Carlock Community Market
DESCRIPTION:
URL:https://meadowridgebeefarm.com/event/carlock-community-market-2/
LOCATION:Rock Creek Veterans’ Park\, Jefferson Street\, Carlock\, IL\, 61725\, United States
CATEGORIES:Small Town Markets
END:VEVENT
BEGIN:VEVENT
DTSTART;TZID=America/Chicago:20230618T100000
DTEND;TZID=America/Chicago:20230618T143000
DTSTAMP:20260422T164942
CREATED:20230407T230108Z
LAST-MODIFIED:20230623T153520Z
UID:4942-1687082400-1687098600@meadowridgebeefarm.com
SUMMARY:Lawnmower Days Makers Market
DESCRIPTION:
URL:https://meadowridgebeefarm.com/event/lawnmower-days-makers-market/
LOCATION:Destihl Brewery\, 1200 Greenbriar Drive\, Normal\, IL\, 61761\, United States
CATEGORIES:Vendor Markets
END:VEVENT
BEGIN:VEVENT
DTSTART;TZID=America/Chicago:20230606T170000
DTEND;TZID=America/Chicago:20230606T190000
DTSTAMP:20260422T164942
CREATED:20230623T145248Z
LAST-MODIFIED:20230623T153527Z
UID:5738-1686070800-1686078000@meadowridgebeefarm.com
SUMMARY:Carlock Community Market
DESCRIPTION:
URL:https://meadowridgebeefarm.com/event/carlock-community-markets/
LOCATION:Rock Creek Veterans’ Park\, Jefferson Street\, Carlock\, IL\, 61725\, United States
CATEGORIES:Small Town Markets
END:VEVENT
BEGIN:VEVENT
DTSTART;TZID=America/Chicago:20230507T100000
DTEND;TZID=America/Chicago:20230507T170000
DTSTAMP:20260422T164942
CREATED:20230407T225948Z
LAST-MODIFIED:20230623T153539Z
UID:4940-1683453600-1683478800@meadowridgebeefarm.com
SUMMARY:All About the Mama's Market
DESCRIPTION:
URL:https://meadowridgebeefarm.com/event/all-about-the-mamas/
LOCATION:The Red Barn\, 32597 Hay Road\, Mackinaw\, IL\, 61755\, United States
CATEGORIES:Vendor Markets
ORGANIZER;CN="Lee Schmidgall":MAILTO:l.schmidgall@icloud.com
END:VEVENT
BEGIN:VEVENT
DTSTART;TZID=America/Chicago:20230506T100000
DTEND;TZID=America/Chicago:20230506T180000
DTSTAMP:20260422T164942
CREATED:20230407T225735Z
LAST-MODIFIED:20230623T153546Z
UID:4934-1683367200-1683396000@meadowridgebeefarm.com
SUMMARY:All About the Mama's Market
DESCRIPTION:
URL:https://meadowridgebeefarm.com/event/all-about-the-mamas-market/
LOCATION:The Red Barn\, 32597 Hay Road\, Mackinaw\, IL\, 61755\, United States
CATEGORIES:Vendor Markets
ORGANIZER;CN="Lee Schmidgall":MAILTO:l.schmidgall@icloud.com
END:VEVENT
BEGIN:VEVENT
DTSTART;TZID=America/Chicago:20221208T160000
DTEND;TZID=America/Chicago:20221208T200000
DTSTAMP:20260422T164942
CREATED:20221130T204725Z
LAST-MODIFIED:20221130T205130Z
UID:4507-1670515200-1670529600@meadowridgebeefarm.com
SUMMARY:Washington Sip & Shop
DESCRIPTION:
URL:https://meadowridgebeefarm.com/event/washington-sip-shop/
LOCATION:Countryside Banquet Facility\, 659 School St\, Washington\, IL\, 61571\, United States
CATEGORIES:Vendor Markets
END:VEVENT
BEGIN:VEVENT
DTSTART;TZID=America/Chicago:20221203T100000
DTEND;TZID=America/Chicago:20221203T140000
DTSTAMP:20260422T164942
CREATED:20221130T204107Z
LAST-MODIFIED:20221130T205137Z
UID:4502-1670061600-1670076000@meadowridgebeefarm.com
SUMMARY:El Paso Christmas Walk
DESCRIPTION:2022-12-03 El Paso Christmas Walk
URL:https://meadowridgebeefarm.com/event/el-paso-christmas-walk/
LOCATION:Jefferson Park Elementary School\, 250 W 3rd St\, El Paso\, IL\, 61738
CATEGORIES:Vendor Markets
END:VEVENT
BEGIN:VEVENT
DTSTART;TZID=America/Chicago:20221120T100000
DTEND;TZID=America/Chicago:20221120T143000
DTSTAMP:20260422T164942
CREATED:20220902T032215Z
LAST-MODIFIED:20221130T203844Z
UID:4369-1668938400-1668954600@meadowridgebeefarm.com
SUMMARY:Destihl Dosvidanya Maker's Market
DESCRIPTION:
URL:https://meadowridgebeefarm.com/event/destihl-dosvidanya-makers-market/
LOCATION:Destihl Brewery\, 1200 Greenbriar Drive\, Normal\, IL\, 61761\, United States
CATEGORIES:Vendor Markets
ORGANIZER;CN="Amanda Stephens":MAILTO:aelston@destihl.com
END:VEVENT
BEGIN:VEVENT
DTSTART;TZID=America/Chicago:20221016T100000
DTEND;TZID=America/Chicago:20221016T143000
DTSTAMP:20260422T164942
CREATED:20220902T032112Z
LAST-MODIFIED:20221130T203852Z
UID:4366-1665914400-1665930600@meadowridgebeefarm.com
SUMMARY:Destihl Fall Maker's Market
DESCRIPTION:
URL:https://meadowridgebeefarm.com/event/destihl-fall-makers-market/
LOCATION:Destihl Brewery\, 1200 Greenbriar Drive\, Normal\, IL\, 61761\, United States
CATEGORIES:Vendor Markets
ORGANIZER;CN="Amanda Stephens":MAILTO:aelston@destihl.com
END:VEVENT
BEGIN:VEVENT
DTSTART;TZID=America/Chicago:20220906T170000
DTEND;TZID=America/Chicago:20220906T190000
DTSTAMP:20260422T164942
CREATED:20220817T152733Z
LAST-MODIFIED:20220902T034205Z
UID:4331-1662483600-1662490800@meadowridgebeefarm.com
SUMMARY:Carlock Community Market
DESCRIPTION:1st and 3rd Tuesday of each month\, June through October 2022 \n5:00-7:00 pm \nRock Creek Veterans’ Park\, Carlock\, IL
URL:https://meadowridgebeefarm.com/event/carlock-community-market/
LOCATION:Rock Creek Veterans’ Park\, Jefferson Street\, Carlock\, IL\, 61725\, United States
CATEGORIES:Small Town Markets
END:VEVENT
BEGIN:VEVENT
DTSTART;TZID=America/Chicago:20220831T160000
DTEND;TZID=America/Chicago:20220831T190000
DTSTAMP:20260422T164942
CREATED:20220829T135030Z
LAST-MODIFIED:20220829T135354Z
UID:4346-1661961600-1661972400@meadowridgebeefarm.com
SUMMARY:Duncan Manor Farmer's Market
DESCRIPTION:Every Wednesday\, 4:00-7:00 pm\, May through August 2023. We will be there the 2nd and 4th Wednesdays of each month beginning June 15th and including August 31st.
URL:https://meadowridgebeefarm.com/event/duncan-manor-farmers-market/
LOCATION:Duncan Manor\, 1002 Towanda-Barnes Rd\, Towanda\, Illinois\, 61776
CATEGORIES:Small Town Markets
END:VEVENT
BEGIN:VEVENT
DTSTART;TZID=America/Chicago:20220827T100000
DTEND;TZID=America/Chicago:20220827T150000
DTSTAMP:20260422T164942
CREATED:20220817T152011Z
LAST-MODIFIED:20220829T135404Z
UID:4325-1661594400-1661612400@meadowridgebeefarm.com
SUMMARY:The Farmstead Fair at Rader Family Farms
DESCRIPTION:Word has gotten out about the Farmstead Fair…and we are proud to bring you >> 100 << hand-selected\, top-quality sellers & makers from all around the Midwest\, in ONE location for ONE weekend only :: August 27 & 28 :: 10am-3pm in the @raderfamilyfarms south lot! You’ll need all that time to see everything they have prepared for you! You don’t want to miss this once a year pop-up event; only $5 admission gets you in to visit all the shops\, the pumpkin barn gift shop\, sidekick grill & coffee shop! {sorry fall farm activities not open yet\, no pets\, no smoking\, no outside food}
URL:https://meadowridgebeefarm.com/event/the-farmstead-fair-at-rader-family-farms/
LOCATION:Rader Family Farms\, 1312 Ropp Rd\, Normal\, 61761\, United States
CATEGORIES:Vendor Markets
ORGANIZER;CN="Shannon Rader":MAILTO:farmsteadfair@gmail.com
END:VEVENT
BEGIN:VEVENT
DTSTART;TZID=America/Chicago:20220619T100000
DTEND;TZID=America/Chicago:20220619T143000
DTSTAMP:20260422T164942
CREATED:20220404T170628Z
LAST-MODIFIED:20220829T135412Z
UID:3935-1655632800-1655649000@meadowridgebeefarm.com
SUMMARY:Destihl Lawnmower Days Makers Market
DESCRIPTION:
URL:https://meadowridgebeefarm.com/event/destihl-lawnmower-days-makers-market/
LOCATION:Destihl Brewery\, 1200 Greenbriar Drive\, Normal\, IL\, 61761\, United States
CATEGORIES:Vendor Markets
ORGANIZER;CN="Amanda Stephens":MAILTO:aelston@destihl.com
END:VEVENT
BEGIN:VEVENT
DTSTART;TZID=America/Chicago:20220410T100000
DTEND;TZID=America/Chicago:20220410T143000
DTSTAMP:20260422T164942
CREATED:20220404T170412Z
LAST-MODIFIED:20220829T135423Z
UID:3933-1649584800-1649601000@meadowridgebeefarm.com
SUMMARY:Destihl Spring Makers Market
DESCRIPTION:
URL:https://meadowridgebeefarm.com/event/destihl-spring-makers-market-2/
LOCATION:Destihl Brewery\, 1200 Greenbriar Drive\, Normal\, IL\, 61761\, United States
CATEGORIES:Vendor Markets
ORGANIZER;CN="Amanda Stephens":MAILTO:aelston@destihl.com
END:VEVENT
BEGIN:VEVENT
DTSTART;TZID=America/Chicago:20210805T160000
DTEND;TZID=America/Chicago:20210805T200000
DTSTAMP:20260422T164942
CREATED:20210818T150605Z
LAST-MODIFIED:20220829T135540Z
UID:3085-1628179200-1628193600@meadowridgebeefarm.com
SUMMARY:Sunset Farmer's Market
DESCRIPTION:
URL:https://meadowridgebeefarm.com/event/sunset-farmers-market/
LOCATION:Destihl Brewery\, 1200 Greenbriar Drive\, Normal\, IL\, 61761\, United States
CATEGORIES:Vendor Markets
ORGANIZER;CN="Amanda Stephens":MAILTO:aelston@destihl.com
END:VEVENT
BEGIN:VEVENT
DTSTART;TZID=America/Chicago:20210704T090000
DTEND;TZID=America/Chicago:20210704T140000
DTSTAMP:20260422T164942
CREATED:20210818T150439Z
LAST-MODIFIED:20210818T150439Z
UID:3083-1625389200-1625407200@meadowridgebeefarm.com
SUMMARY:Boo Boo's Big Bash
DESCRIPTION:
URL:https://meadowridgebeefarm.com/event/boo-boos-big-bash/
LOCATION:O’Connell’s Yogi Bear Jellystone Park\, 970 Green Wing Rd\, Amboy\, IL\, 61310
END:VEVENT
BEGIN:VEVENT
DTSTART;TZID=America/Chicago:20210626T120000
DTEND;TZID=America/Chicago:20210626T180000
DTSTAMP:20260422T164942
CREATED:20210614T163708Z
LAST-MODIFIED:20210614T163708Z
UID:2811-1624708800-1624730400@meadowridgebeefarm.com
SUMMARY:Maroa Freedom Festival
DESCRIPTION:Maroa Freedom Festival – Saturday\, June 26!\nParade line up – 10:00am at the High School\nParade – 11:00am\nContest for best Freedom dress – people and pets\nContest for best Freedom decoration – bicycles\nBand at City Hall – 6:30 to 9:00\nFireworks at dusk\nCraft vendors\nFood vendors\nCornhole tournament\nPetting zoo\nBall games\nSoftball tournament\nKids pedal tractor pulls\nPony rides\nCakewalk\nWet and dry inflatable kids rides\n……and more!
URL:https://meadowridgebeefarm.com/event/maroa-freedom-festival/
LOCATION:Maroa City Hall\, 120 S. Locust Street\, Maroa\, IL\, United States
END:VEVENT
BEGIN:VEVENT
DTSTART;TZID=America/Chicago:20210613T100000
DTEND;TZID=America/Chicago:20210613T150000
DTSTAMP:20260422T164942
CREATED:20210330T124751Z
LAST-MODIFIED:20210330T124928Z
UID:2643-1623578400-1623596400@meadowridgebeefarm.com
SUMMARY:Destihl Farmers Market
DESCRIPTION:
URL:https://meadowridgebeefarm.com/event/june-farmers-market/
LOCATION:Destihl Brewery\, 1200 Greenbriar Drive\, Normal\, IL\, 61761\, United States
ORGANIZER;CN="Amanda Stephens":MAILTO:aelston@destihl.com
END:VEVENT
BEGIN:VEVENT
DTSTART;TZID=America/Chicago:20210516T100000
DTEND;TZID=America/Chicago:20210516T150000
DTSTAMP:20260422T164942
CREATED:20210329T220409Z
LAST-MODIFIED:20210331T210836Z
UID:2603-1621159200-1621177200@meadowridgebeefarm.com
SUMMARY:Destihl May Makers' Market
DESCRIPTION:
URL:https://meadowridgebeefarm.com/event/destihl-may-makers-market/
LOCATION:Destihl Brewery\, 1200 Greenbriar Drive\, Normal\, IL\, 61761\, United States
ORGANIZER;CN="Amanda Stephens":MAILTO:aelston@destihl.com
END:VEVENT
BEGIN:VEVENT
DTSTART;TZID=America/Chicago:20210508T090000
DTEND;TZID=America/Chicago:20210508T150000
DTSTAMP:20260422T164942
CREATED:20210329T222446Z
LAST-MODIFIED:20210329T230154Z
UID:2607-1620464400-1620486000@meadowridgebeefarm.com
SUMMARY:The Queens Market
DESCRIPTION:Welcome to The Queens Market!\nWe’re going to be bringing the excellence you expect in a market\, but also some new experiences the whole family can enjoy.  And don’t forget about those fabulous food trucks.\nOh yeah\, they will be there too! \nWe’re busy curating a fantastic lineup of artisans and makers from all over the midwest. Be sure to follow us on Facebook and Instagram to keep up with all of the news and highlights about the market. \nThe market is a fundraiser that is near and dear to our hearts (see the mission below).\nOur gate price is $5 for adults  – 15 years or older.\nBut we hope you will bring the whole family for a day of fun! \nSaturday\, May 8th from 9:00-3:00\nThe Water Tower in Gridley\, Illinois \n  \nMarket with a mission.\nOur market is a fundraiser for a cause that is deeply personal for women: FGM – female genital mutilation.  It is a cultural tradition among many rural tribes of Kenya and many other parts of the world that dates back hundreds of years. It is deeply entrenched in culture as a requirement or rite of passage for girls. (We invite you to do more research on your own of what FGM entails.). \nFGM is a cultural practice\, rooted in inequality and discrimination against women and girls in a misguided attempt to curb sexuality and increase marriageability due to a subsequent “purity.”  It is often a precursor to marriage (child-brides)\, and once married off\, their education ends. The unfortunate outcome physically is a lifetime of health risks\, pregnancy complications\, anemia\, and more. Spiritually\, their needs are much greater. \nFor just $96 per year\, or $8 per month we can support a precious child in an FGM rescue center. These funds provide them with food for a year\, reusable sanitary supplies for a year\, a gospel booklet\, soap\, and other hygiene products.  We hope to sponsor up to 1\,000 girls! \nAll proceeds of the market go to this mission.
URL:https://meadowridgebeefarm.com/event/the-queens-market/
LOCATION:The Water Tower\, 411 E Gridley Rd\, Gridley\, IL\, 61744\, United States
ATTACH;FMTTYPE=image/jpeg:https://meadowridgebeefarm.com/wp-content/uploads/2021/03/The-Queens-Market.jpg
END:VEVENT
BEGIN:VEVENT
DTSTART;TZID=America/Chicago:20210425T100000
DTEND;TZID=America/Chicago:20210425T150000
DTSTAMP:20260422T164942
CREATED:20210325T231223Z
LAST-MODIFIED:20210329T223006Z
UID:2585-1619344800-1619362800@meadowridgebeefarm.com
SUMMARY:Destihl Spring Makers Market
DESCRIPTION:
URL:https://meadowridgebeefarm.com/event/destihl-spring-makers-market/
LOCATION:IL
ATTACH;FMTTYPE=image/jpeg:https://meadowridgebeefarm.com/wp-content/uploads/2021/03/2021-04-25-Destihl-Spring-Makers-Market.jpg
ORGANIZER;CN="Amanda Stephens":MAILTO:aelston@destihl.com
END:VEVENT
END:VCALENDAR